Workbook

Sheet SUMMARY
A1: MATERIAL TAKEOFF AND COST ESTIMATE STATEMENT
A2: PROJECT NAME: | C2: =ESTIMATE!C2 -> 10 WEST 17TH STREET, NEW YORK, NY 10011
A4: LOCATION: | C4: =ESTIMATE!C3 -> 10 WEST 17TH STREET, NEW YORK, NY 10011 | J4: TOTAL AREA(SF) | L4: 12
M5: Area May Vary
A7: Sr # | B7: REFERENCE | C7: DESCRIPTION | K7: TOTAL COST | L7: $COST/SF
A9: DIVISION WISE SUMMARY | M9: =SUM(K10:K35) -> 0.44
A11: =IF(F11<>"",1+MAX($A$2:A10),"") | C11: CSI DIVISIONS
A12: =IF(F12<>"",1+MAX($A$2:A11),"") | C12: 01-General Conditions | K12: =ESTIMATE!P7 -> 0 | L12: =K12/L4 -> 0
A13: =IF(F13<>"",1+MAX($A$2:A12),"") | C13: 02-Demolition Of Existing Items | K13: =0 -> 0 | L13: =K13/L4 -> 0
A14: =IF(F14<>"",1+MAX($A$2:A13),"") | C14: 03-Concrete | K14: =ESTIMATE!P24 -> 0 | L14: =K14/L4 -> 0
A15: =IF(F15<>"",1+MAX($A$2:A14),"") | C15: 04-Masonry | K15: =SUMMARY!P155 -> 0 | L15: =K15/L4 -> 0
A16: =IF(F16<>"",1+MAX($A$2:A15),"") | C16: 05-Metals | K16: =SUMMARY!P168 -> 0 | L16: =K16/L4 -> 0
A17: =IF(F17<>"",1+MAX($A$2:A16),"") | C17: 06-Wood, Plastics & Composites | K17: =ESTIMATE!P263 -> 0 | L17: =K17/L4 -> 0
A18: =IF(F18<>"",1+MAX($A$2:A17),"") | C18: 07-Thermal & Moisture Protection | K18: =ESTIMATE!P288 -> 0.22 | L18: =K18/L4 -> 0.018333333
A19: =IF(F19<>"",1+MAX($A$2:A18),"") | C19: 08-Openings | K19: =ESTIMATE!P311 -> 0 | L19: =K19/L4 -> 0
A20: =IF(F20<>"",1+MAX($A$2:A19),"") | C20: 09-Finishes | K20: =ESTIMATE!P381 -> 0.22 | L20: =K20/L4 -> 0.018333333
A21: =IF(F21<>"",1+MAX($A$2:A20),"") | C21: 10-Specialites | K21: =ESTIMATE!P438 -> 0 | L21: =K21/L4 -> 0
A22: =IF(F22<>"",1+MAX($A$2:A21),"") | C22: 11-Equipment | K22: =ESTIMATE!P451 -> 0 | L22: =K22/L4 -> 0
A23: =IF(F23<>"",1+MAX($A$2:A22),"") | C23: 12-Furnishings | K23: =ESTIMATE!P461 -> 0 | L23: =K23/L4 -> 0
A24: =IF(F24<>"",1+MAX($A$2:A23),"") | C24: 13-Special Construction | K24: 0 | L24: =K24/L4 -> 0
A25: =IF(F25<>"",1+MAX($A$2:A24),"") | C25: 14-Conveying Equipment | K25: =ESTIMATE!P484 -> 0 | L25: =K25/L4 -> 0
A26: =IF(F26<>"",1+MAX($A$2:A25),"") | C26: 21-Fire Protection | K26: 0 | L26: =K26/L4 -> 0
A27: =IF(F27<>"",1+MAX($A$2:A26),"") | C27: 22-Plumbing | K27: =ESTIMATE!P517 -> 0 | L27: =K27/L4 -> 0
A28: =IF(F28<>"",1+MAX($A$2:A27),"") | C28: 23-Heating, Ventilations & Air Conditioning (HVAC) | K28: =ESTIMATE!P636 -> 0 | L28: =K28/L4 -> 0
A29: =IF(F29<>"",1+MAX($A$2:A28),"") | C29: 26-Electrical | K29: =ESTIMATE!P847 -> 0 | L29: =K29/L4 -> 0
A30: =IF(F30<>"",1+MAX($A$2:A29),"") | C30: 27-Communications | K30: 0 | L30: =K30/L4 -> 0
A31: =IF(E31<>"",1+MAX($A$2:A30),"") | C31: 28-Electronic Safety & security | K31: 0 | L31: =K31/L4 -> 0
A32: =IF(E32<>"",1+MAX($A$2:A31),"") | C32: 31-Earthwork | K32: =ESTIMATE!P988 -> 0 | L32: =K32/L4 -> 0
A33: =IF(E33<>"",1+MAX($A$2:A32),"") | C33: 32-Exterior Improvements | K33: =ESTIMATE!P994 -> 0 | L33: =K33/L4 -> 0
A34: =IF(E34<>"",1+MAX($A$2:A33),"") | C34: 33-Utilities | K34: 0 | L34: =K34/L4 -> 0
A37: SUB TOTAL | M37: =SUM(M9:M35) -> 0.44
A38: OVERHEAD | D38: 0.07 | M38: =M37*D38 -> 0.0308
A39: PROFIT | D39: 0.15 | M39: =M37*D39 -> 0.066
A40: INSURANCE | D40: 0 | M40: =M37*D40 -> 0
A41: CONTINGENCY | D41: 0.01 | M41: =M37*D41 -> 0.0044
A42: NET TOTAL | M42: =SUM(M37:M41) -> 0.5412
A43: =IF(E43<>"",1+MAX(#REF!),"")
A44: =IF(E44<>"",1+MAX($A$43:A43),"")
A45: =IF(E45<>"",1+MAX($A$43:A44),"")
A46: =IF(E46<>"",1+MAX($A$43:A45),"")
A47: =IF(E47<>"",1+MAX($A$43:A46),"")
A48: =IF(E48<>"",1+MAX($A$43:A47),"")
A49: =IF(E49<>"",1+MAX($A$43:A48),"")
A50: =IF(E50<>"",1+MAX($A$43:A49),"")
A51: =IF(E51<>"",1+MAX($A$43:A50),"")
A52: =IF(E52<>"",1+MAX($A$43:A51),"")
A53: =IF(E53<>"",1+MAX($A$43:A52),"")
A54: =IF(E54<>"",1+MAX($A$43:A53),"")
A55: =IF(E55<>"",1+MAX($A$43:A54),"")
... A202: =IF(E202<>"",1+MAX($A$43:A201),"")

Sheet ESTIMATE
A1: MATERIAL TAKEOFF AND COST ESTIMATE STATEMENT
A2: PROJECT NAME: | C2: 10 WEST 17TH STREET, NEW YORK, NY 10011
A3: LOCATION: | C3: 10 WEST 17TH STREET, NEW YORK, NY 10011
A5: Sr # | B5: REFERENCE | C5: DESCRIPTION | D5: QUANTITY | E5: WASTE | F5: TOTAL QTY | G5: UNIT | H5: COST/UNIT | I5: MATERIAL TOTAL | J5: UNIT HOURS | K5: TOTAL MANHOURS | L5: UNIT LABOR | M5: TOTAL LABOR | N5: TOTAL COST | O5: REMARKS | P5: TRADE COST
A7: 01. GENERAL CONDITIONS | P7: =SUM(N8:N22) -> 0
A8: =IF(F8<>"",1+MAX($A$2:A7),"")
A9: =IF(F9<>"",1+MAX($A$2:A8),"") | C9: INDIRECT PROJECT COSTS
A10: =IF(F10<>"",1+MAX($A$2:A9),"") -> 1 | C10: General Liability Insurance | D10: 0 | E10: 0 | F10: =(1+E10)*D10 -> 0 | G10: Mo | H10: 0 | I10: =H10*F10 -> 0 | J10: 0 | K10: =J10*F10 -> 0 | L10: 0 | M10: =L10*K10 -> 0 | N10: =M10+I10 -> 0
A11: =IF(F11<>"",1+MAX($A$2:A10),"") -> 2 | C11: General Conditions (Backoffice Overhead) | D11: 0 | E11: 0 | F11: =(1+E11)*D11 -> 0 | G11: Mo | H11: 0 | I11: =H11*F11 -> 0 | J11: 0 | K11: =J11*F11 -> 0 | L11: 0 | M11: =L11*K11 -> 0 | N11: =M11+I11 -> 0
A12: =IF(F12<>"",1+MAX($A$2:A11),"") | C12: DIRECT PROJECT COSTS
A13: =IF(F13<>"",1+MAX($A$2:A12),"") -> 3 | C13: Bonding Fee (If required) | D13: 1.15 | E13: 0 | F13: =(1+E13)*D13 -> 1.15 | G13: % | I13: =H13*F13 -> 0 | J13: 0 | K13: =J13*F13 -> 0 | L13: 0 | M13: =L13*K13 -> 0 | N13: =M13+I13 -> 0
A14: =IF(F14<>"",1+MAX($A$2:A13),"") -> 4 | C14: Access Control (Pipe Scaffolding or Boom/Scissor Lifts) | D14: 0 | E14: 0 | F14: =(1+E14)*D14 -> 0 | G14: Mo | H14: 0 | I14: =H14*F14 -> 0 | J14: 0 | K14: =J14*F14 -> 0 | L14: 0 | M14: =L14*K14 -> 0 | N14: =M14+I14 -> 0
A15: =IF(F15<>"",1+MAX($A$2:A14),"") -> 5 | C15: Equipment Rental | D15: 0 | E15: 0 | F15: =(1+E15)*D15 -> 0 | G15: Mo | H15: 0 | I15: =H15*F15 -> 0 | J15: 0 | K15: =J15*F15 -> 0 | L15: 0 | M15: =L15*K15 -> 0 | N15: =M15+I15 -> 0
A16: =IF(F16<>"",1+MAX($A$2:A15),"") -> 6 | C16: Travel, Tools, Gas | D16: 0 | E16: 0 | F16: =(1+E16)*D16 -> 0 | G16: Mo | H16: 0 | I16: =H16*F16 -> 0 | J16: 0 | K16: =J16*F16 -> 0 | L16: 0 | M16: =L16*K16 -> 0 | N16: =M16+I16 -> 0
A17: =IF(F17<>"",1+MAX($A$2:A16),"") -> 7 | C17: Field Office | D17: 0 | E17: 0 | F17: =(1+E17)*D17 -> 0 | G17: Mo | H17: 0 | I17: =H17*F17 -> 0 | J17: 0 | K17: =J17*F17 -> 0 | L17: 0 | M17: =L17*K17 -> 0 | N17: =M17+I17 -> 0
A18: =IF(F18<>"",1+MAX($A$2:A17),"") -> 8 | C18: Temp. Facilities | D18: 0 | E18: 0 | F18: =(1+E18)*D18 -> 0 | G18: Mo | H18: 0 | I18: =H18*F18 -> 0 | J18: 0 | K18: =J18*F18 -> 0 | L18: 0 | M18: =L18*K18 -> 0 | N18: =M18+I18 -> 0
A19: =IF(F19<>"",1+MAX($A$2:A18),"") -> 9 | C19: Temp. Signage and Protection | D19: 0 | E19: 0 | F19: =(1+E19)*D19 -> 0 | G19: Mo | H19: 0 | I19: =H19*F19 -> 0 | J19: 0 | K19: =J19*F19 -> 0 | L19: 0 | M19: =L19*K19 -> 0 | N19: =M19+I19 -> 0
A20: =IF(F20<>"",1+MAX($A$2:A19),"") -> 10 | C20: Temp. Fencing | D20: 0 | E20: 0 | F20: =(1+E20)*D20 -> 0 | G20: Mo | H20: 0 | I20: =H20*F20 -> 0 | J20: 0 | K20: =J20*F20 -> 0 | L20: 0 | M20: =L20*K20 -> 0 | N20: =M20+I20 -> 0
A21: =IF(F21<>"",1+MAX($A$2:A20),"") -> 11 | C21: Field Superintendent/Foreman (Full Time) | D21: 0 | E21: 0 | F21: =(1+E21)*D21 -> 0 | G21: Mo | H21: 0 | I21: =H21*F21 -> 0 | J21: 0 | K21: =J21*F21 -> 0 | L21: 0 | M21: =L21*K21 -> 0 | N21: =M21+I21 -> 0
A22: =IF(F22<>"",1+MAX($A$2:A21),"") -> 12 | C22: Project Manager (Part Time) | D22: 0 | E22: 0 | F22: =(1+E22)*D22 -> 0 | G22: Mo | H22: 0 | I22: =H22*F22 -> 0 | J22: 0 | K22: =J22*F22 -> 0 | L22: 0 | M22: =L22*K22 -> 0 | N22: =M22+I22 -> 0
A23: =IF(F23<>"",1+MAX($A$2:A22),"")
A24: 03. CONCRETE | P24: =SUM(N25:N167) -> 0
A25: =IF(F25<>"",1+MAX($A$2:A24),"")
A26: =IF(F26<>"",1+MAX($A$2:A25),"") | B26: F0101, F0001 | C26: CONCRETE FOR FOUNDATION
A27: =IF(F27<>"",1+MAX($A$2:A26),"") | C27: CAISSON CAP
A28: =IF(F28<>"",1+MAX($A$2:A27),"") -> 13 | C28: Tag: Cc-1A, 3'-0" X 3'-0" X 3'-6" Caisson Cap (6 Ea) Reinforced With (3) #8 Each Way At Bottom | D28: =6*3*3*3.5/27 -> 7 | E28: 0.05 | F28: =(1+E28)*D28 -> 7.35 | G28: CY | H28: 0 | I28: =H28*F28 -> 0 | J28: 0 | K28: =J28*F28 -> 0 | L28: 55 | M28: =L28*K28 -> 0 | N28: =M28+I28 -> 0
A29: =IF(F29<>"",1+MAX($A$2:A28),"") -> 14 | C29: Tag: Cc-1B, 3'-0" X 3'-6" X 11'-8" Caisson Cap (4 Ea) Reinforced With (16) #10 Vertical Rebars Each Way | D29: =4*3*3.5*11.67/27 -> 18.153333 | E29: 0.05 | F29: =(1+E29)*D29 -> 19.061 | G29: CY | H29: 0 | I29: =H29*F29 -> 0 | J29: 0 | K29: =J29*F29 -> 0 | L29: 55 | M29: =L29*K29 -> 0 | N29: =M29+I29 -> 0
A30: =IF(F30<>"",1+MAX($A$2:A29),"") -> 15 | C30: Tag: Cc-1B, 3'-0" X 3'-6" X 10'-6" Caisson Cap (2 Ea) Reinforced With (16) #10 Vertical Rebars Each Way | D30: =2*3*3.5*10.5/27 -> 8.1666667 | E30: 0.05 | F30: =(1+E30)*D30 -> 8.575 | G30: CY | H30: 0 | I30: =H30*F30 -> 0 | J30: 0 | K30: =J30*F30 -> 0 | L30: 55 | M30: =L30*K30 -> 0 | N30: =M30+I30 -> 0
A31: =IF(F31<>"",1+MAX($A$2:A30),"") -> 16 | C31: Tag: Cc-1B, 3'-0" X 3'-6" X 10'-8" Caisson Cap (1 Ea) Reinforced With (16) #10 Vertical Rebars Each Way | D31: =1*3*3.5*10.67/27 -> 4.1494444 | E31: 0.05 | F31: =(1+E31)*D31 -> 4.3569167 | G31: CY | H31: 0 | I31: =H31*F31 -> 0 | J31: 0 | K31: =J31*F31 -> 0 | L31: 55 | M31: =L31*K31 -> 0 | N31: =M31+I31 -> 0
A32: =IF(F32<>"",1+MAX($A$2:A31),"") -> 17 | C32: Tag: Cc-2, 3'-0" X 11'-0" X 4'-0" Caisson Cap (1 Ea) | D32: =1*3*11*4/27 -> 4.8888889 | E32: 0.05 | F32: =(1+E32)*D32 -> 5.1333333 | G32: CY | H32: 0 | I32: =H32*F32 -> 0 | J32: 0 | K32: =J32*F32 -> 0 | L32: 55 | M32: =L32*K32 -> 0 | N32: =M32+I32 -> 0
A33: =IF(F33<>"",1+MAX($A$2:A32),"") -> 18 | C33: 12'-7" X 3'-0" X 4'-8" Caisson Cap (1 Ea) Reinforced With 10#10 Bottom And 4#8 Horizontal #6@12" O.C. Vertical E.F And #7@9" O.C. Horiz. E.F | D33: =1*12.58*3*4.67/27 -> 6.5276222 | E33: 0.05 | F33: =(1+E33)*D33 -> 6.8540033 | G33: CY | H33: 0 | I33: =H33*F33 -> 0 | J33: 0 | K33: =J33*F33 -> 0 | L33: 55 | M33: =L33*K33 -> 0 | N33: =M33+I33 -> 0
A34: =IF(F34<>"",1+MAX($A$2:A33),"") -> 19 | C34: 12'-7" X 3'-0" X 5'-8" Caisson Cap (1 Ea) Reinforced With 10#10 Bottom And 4#8 Horizontal #6@12" O.C. Vertical E.F And #7@9" O.C. Horiz. E.F | D34: =1*12.58*3*5.67/27 -> 7.9254 | E34: 0.05 | F34: =(1+E34)*D34 -> 8.32167 | G34: CY | H34: 0 | I34: =H34*F34 -> 0 | J34: 0 | K34: =J34*F34 -> 0 | L34: 55 | M34: =L34*K34 -> 0 | N34: =M34+I34 -> 0
A35: =IF(F35<>"",1+MAX($A$2:A34),"") -> 20 | C35: 23'-0" X 3'-0" X 5'-8" Caisson Cap (1 Ea) Reinforced With 7#10 Bottom And 4#8 Horizontal #6@12" O.C. Vertical E.F And #7@9" O.C. Horiz. E.F | D35: =1*23*3*5.67/27 -> 14.49 | E35: 0.05 | F35: =(1+E35)*D35 -> 15.2145 | G35: CY | H35: 0 | I35: =H35*F35 -> 0 | J35: 0 | K35: =J35*F35 -> 0 | L35: 55 | M35: =L35*K35 -> 0 | N35: =M35+I35 -> 0
A36: =IF(F36<>"",1+MAX($A$2:A35),"") -> 21 | C36: 23'-0" X 3'-0" X 5'-8" Caisson Cap (1 Ea) Reinforced With 2 Layers 7#10 Bottom And 4#8 Horizontal #6@12" O.C. Vertical E.F And #7@9" O.C. Horiz. E.F | D36: =1*23*3*5.67/27 -> 14.49 | E36: 0.05 | F36: =(1+E36)*D36 -> 15.2145 | G36: CY | H36: 0 | I36: =H36*F36 -> 0 | J36: 0 | K36: =J36*F36 -> 0 | L36: 55 | M36: =L36*K36 -> 0 | N36: =M36+I36 -> 0
A37: =IF(F37<>"",1+MAX($A$2:A36),"") | B37: S102/S103/104/105/106/107/108 | C37: CONCRETE FOR WALLS
A38: =IF(F38<>"",1+MAX($A$2:A37),"") -> 22 | C38: 12" Thick Concrete Wall 11'-0" High (69.88 Lf) Reinforced With #5 Vertical Rebars @12" O.C. At Outer Face, #8 Vertical Rebars @8" O.C. At Inner Face, #5 @ 12" O.C Horz. | D38: =69.88*1*11/27 -> 28.46963 | E38: 0.05 | F38: =(1+E38)*D38 -> 29.893111 | G38: CY | H38: 0 | I38: =H38*F38 -> 0 | J38: 0 | K38: =J38*F38 -> 0 | L38: 55 | M38: =L38*K38 -> 0 | N38: =M38+I38 -> 0
A39: =IF(F39<>"",1+MAX($A$2:A38),"") -> 23 | C39: 12" Thick Concrete Wall 10'-0" High (70.16 Lf) Reinforced With #5 Vertical Rebars @12" O.C. At Outer Face, #8 Vertical Rebars @8" O.C. At Inner Face, #5 @ 12" O.C Horz. | D39: =70.16*1*10/27 -> 25.985185 | E39: 0.05 | F39: =(1+E39)*D39 -> 27.284444 | G39: CY | H39: 0 | I39: =H39*F39 -> 0 | J39: 0 | K39: =J39*F39 -> 0 | L39: 55 | M39: =L39*K39 -> 0 | N39: =M39+I39 -> 0
A40: =IF(F40<>"",1+MAX($A$2:A39),"") -> 24 | C40: 12" Thick Concrete Wall 9'-2" High (15.13 Lf) Reinforced With #5 Vertical Rebars @12" O.C. At Outer Face, #8 Vertical Rebars @8" O.C. At Inner Face, #5 @ 12" O.C Horz. | D40: =15.13*1*9.167/27 -> 5.1369152 | E40: 0.05 | F40: =(1+E40)*D40 -> 5.3937609 | G40: CY | H40: 0 | I40: =H40*F40 -> 0 | J40: 0 | K40: =J40*F40 -> 0 | L40: 55 | M40: =L40*K40 -> 0 | N40: =M40+I40 -> 0
A41: =IF(F41<>"",1+MAX($A$2:A40),"") -> 25 | C41: 12" Thick Concrete Wall 12'-2" High (82.83 Lf) Reinforced With #5 Vertical Rebars @12" O.C. At Outer Face, #8 Vertical Rebars @8" O.C. At Inner Face, #5 @ 12" O.C Horz. | D41: =82.83*12.167*1/27 -> 37.325652 | E41: 0.05 | F41: =(1+E41)*D41 -> 39.191935 | G41: CY | H41: 0 | I41: =H41*F41 -> 0 | J41: 0 | K41: =J41*F41 -> 0 | L41: 55 | M41: =L41*K41 -> 0 | N41: =M41+I41 -> 0
A42: =IF(F42<>"",1+MAX($A$2:A41),"") -> 26 | C42: 8" Thick Concrete Wall 9'-0" High (10.25 Lf) Reinforced With #5 Rebars @ 12" O.C. Vertical And Horizointal | D42: =10.25*9*0.67/27 -> 2.2891667 | E42: 0.05 | F42: =(1+E42)*D42 -> 2.403625 | G42: CY | H42: 0 | I42: =H42*F42 -> 0 | J42: 0 | K42: =J42*F42 -> 0 | L42: 55 | M42: =L42*K42 -> 0 | N42: =M42+I42 -> 0
A43: =IF(F43<>"",1+MAX($A$2:A42),"") -> 27 | C43: 9" Thick Concrete Wall 3'-0" High (40.26 Lf) Reinforced With #5 Rebars @ 12" O.C. Vertical And Horizointal | D43: =40.26*3*0.75/27 -> 3.355 | E43: 0.05 | F43: =(1+E43)*D43 -> 3.52275 | G43: CY | H43: 0 | I43: =H43*F43 -> 0 | J43: 0 | K43: =J43*F43 -> 0 | L43: 55 | M43: =L43*K43 -> 0 | N43: =M43+I43 -> 0
A44: =IF(F44<>"",1+MAX($A$2:A43),"") -> 28 | C44: 10" Thick Concrete Wall 9'-0" High (17.02 Lf) Reinforced With #5 Rebars @ 12" O.C. Vertical And Horizointal | D44: =17.02*0.83*9/27 -> 4.7088667 | E44: 0.05 | F44: =(1+E44)*D44 -> 4.94431 | G44: CY | H44: 0 | I44: =H44*F44 -> 0 | J44: 0 | K44: =J44*F44 -> 0 | L44: 55 | M44: =L44*K44 -> 0 | N44: =M44+I44 -> 0
A45: =IF(F45<>"",1+MAX($A$2:A44),"") -> 29 | C45: 12" Thick Concrete Wall 9'-0" High (38.59 Lf) Reinforced With #5 Rebars @ 12" O.C. Vertical And Horizointal | D45: =38.59*9*1/27 -> 12.863333 | E45: 0.05 | F45: =(1+E45)*D45 -> 13.5065 | G45: CY | H45: 0 | I45: =H45*F45 -> 0 | J45: 0 | K45: =J45*F45 -> 0 | L45: 55 | M45: =L45*K45 -> 0 | N45: =M45+I45 -> 0
A46: =IF(F46<>"",1+MAX($A$2:A45),"") -> 30 | C46: SW1:10'' Thick Concrete Wall(10'-3'' High) Reinforced w/ #5@12'' o.c. Horiz. & #5@12'' o.c Vert. Rebars | D46: =(33.99*0.83*10.25)/27 -> 10.709997 | E46: 0.05 | F46: =(1+E46)*D46 -> 11.245497 | G46: CY | H46: 0 | I46: =H46*F46 -> 0 | J46: 0 | K46: =J46*F46 -> 0 | L46: 55 | M46: =L46*K46 -> 0 | N46: =M46+I46 -> 0
A47: =IF(F47<>"",1+MAX($A$2:A46),"") -> 31 | C47: SW2:1'-0'' Thick Concrete Wall(10'-3'' High) Reinforced w/ #5@12'' o.c. Horizontal Rebars | D47: 5.1515741 | E47: 0.05 | F47: =(1+E47)*D47 -> 5.4091528 | G47: CY | H47: 0 | I47: =H47*F47 -> 0 | J47: 0 | K47: =J47*F47 -> 0 | L47: 55 | M47: =L47*K47 -> 0 | N47: =M47+I47 -> 0
A48: =IF(F48<>"",1+MAX($A$2:A47),"") -> 32 | C48: SW-3:1'-0'' Thick Concrete Wall(10'-3'' High) Reinforced w/ #5@12'' o.c. Horizontal Rebars | D48: 3.7165741 | E48: 0.05 | F48: =(1+E48)*D48 -> 3.9024028 | G48: CY | H48: 0 | I48: =H48*F48 -> 0 | J48: 0 | K48: =J48*F48 -> 0 | L48: 55 | M48: =L48*K48 -> 0 | N48: =M48+I48 -> 0
A49: =IF(F49<>"",1+MAX($A$2:A48),"") -> 33 | C49: SW1:10'' Thick Concrete Wall(9'-8'' High) Reinforced w/ #5@12'' o.c. Horiz. & #5@12'' o.c Vert. Rebars | D49: 10.062201 | E49: 0.05 | F49: =(1+E49)*D49 -> 10.565311 | G49: CY | H49: 0 | I49: =H49*F49 -> 0 | J49: 0 | K49: =J49*F49 -> 0 | L49: 55 | M49: =L49*K49 -> 0 | N49: =M49+I49 -> 0
A50: =IF(F50<>"",1+MAX($A$2:A49),"") -> 34 | C50: SW2:1'-0'' Thick Concrete Wall(9'-8'' High) Reinforced w/ #5@12'' o.c. Horiz. & #5@12'' o.c Vert. Rebars | D50: 4.8514019 | E50: 0.05 | F50: =(1+E50)*D50 -> 5.0939719 | G50: CY | H50: 0 | I50: =H50*F50 -> 0 | J50: 0 | K50: =J50*F50 -> 0 | L50: 55 | M50: =L50*K50 -> 0 | N50: =M50+I50 -> 0
A51: =IF(F51<>"",1+MAX($A$2:A50),"") -> 35 | C51: SW3:1'-0'' Thick Concrete Wall(9'-8'' High) Reinforced w/ #5@12'' o.c. Horiz. & #5@12'' o.c Vert. Rebars | D51: 3.508763 | E51: 0.05 | F51: =(1+E51)*D51 -> 3.6842011 | G51: CY | H51: 0 | I51: =H51*F51 -> 0 | J51: 0 | K51: =J51*F51 -> 0 | L51: 55 | M51: =L51*K51 -> 0 | N51: =M51+I51 -> 0
A52: =IF(F52<>"",1+MAX($A$2:A51),"") -> 36 | C52: SW1:10'' Thick Concrete Wall(9'-8'' High) Reinforced w/ #5@12'' o.c. Horiz. & #5@12'' o.c Vert. Rebars | D52: 70.893052 | E52: 0.05 | F52: =(1+E52)*D52 -> 74.437705 | G52: CY | H52: 0 | I52: =H52*F52 -> 0 | J52: 0 | K52: =J52*F52 -> 0 | L52: 55 | M52: =L52*K52 -> 0 | N52: =M52+I52 -> 0
A53: =IF(F53<>"",1+MAX($A$2:A52),"") -> 37 | C53: SW2:1'-0'' Thick Concrete Wall(9'-8'' High) Reinforced w/ #5@12'' o.c. Horiz. & #5@12'' o.c Vert. Rebars | D53: 34.060063 | E53: 0.05 | F53: =(1+E53)*D53 -> 35.763067 | G53: CY | H53: 0 | I53: =H53*F53 -> 0 | J53: 0 | K53: =J53*F53 -> 0 | L53: 55 | M53: =L53*K53 -> 0 | N53: =M53+I53 -> 0
A54: =IF(F54<>"",1+MAX($A$2:A53),"") -> 38 | C54: SW3:1'-0'' Thick Concrete Wall(9'-8'' High) Reinforced w/ #5@12'' o.c. Horiz. & #5@12'' o.c Vert. Rebars | D54: 24.561341 | E54: 0.05 | F54: =(1+E54)*D54 -> 25.789408 | G54: CY | H54: 0 | I54: =H54*F54 -> 0 | J54: 0 | K54: =J54*F54 -> 0 | L54: 55 | M54: =L54*K54 -> 0 | N54: =M54+I54 -> 0
A55: =IF(F55<>"",1+MAX($A$2:A54),"") -> 39 | C55: SW1:10'' Thick Concrete Wall(10'-2'' High) Reinforced w/ #5@12'' o.c. Horiz. & #5@12'' o.c Vert. Rebars | D55: 42.426354 | E55: 0.05 | F55: =(1+E55)*D55 -> 44.547671 | G55: CY | H55: 0 | I55: =H55*F55 -> 0 | J55: 0 | K55: =J55*F55 -> 0 | L55: 55 | M55: =L55*K55 -> 0 | N55: =M55+I55 -> 0
A56: =IF(F56<>"",1+MAX($A$2:A55),"") -> 40 | C56: SW2:1'-0'' Thick Concrete Wall(10'-2'' High) Reinforced w/ #5@12'' o.c. Horiz. & #5@12'' o.c Vert. Rebars | D56: 20.350104 | E56: 0.05 | F56: =(1+E56)*D56 -> 21.367609 | G56: CY | H56: 0 | I56: =H56*F56 -> 0 | J56: 0 | K56: =J56*F56 -> 0 | L56: 55 | M56: =L56*K56 -> 0 | N56: =M56+I56 -> 0
A57: =IF(F57<>"",1+MAX($A$2:A56),"") -> 41 | C57: SW3:1'-0'' Thick Concrete Wall(10'-2'' High) Reinforced w/ #5@12'' o.c. Horiz. & #5@12'' o.c Vert. Rebars | D57: 14.750815 | E57: 0.05 | F57: =(1+E57)*D57 -> 15.488356 | G57: CY | H57: 0 | I57: =H57*F57 -> 0 | J57: 0 | K57: =J57*F57 -> 0 | L57: 55 | M57: =L57*K57 -> 0 | N57: =M57+I57 -> 0
A58: =IF(F58<>"",1+MAX($A$2:A57),"") -> 42 | C58: SW1:10'' Thick Concrete Wall(11'-3'' High) Reinforced w/ #5@12'' o.c. Horiz. & #5@12'' o.c Vert. Rebars | D58: 11.68225 | E58: 0.05 | F58: =(1+E58)*D58 -> 12.266362 | G58: CY | H58: 0 | I58: =H58*F58 -> 0 | J58: 0 | K58: =J58*F58 -> 0 | L58: 55 | M58: =L58*K58 -> 0 | N58: =M58+I58 -> 0
... A72: =IF(F72<>"",1+MAX($A$2:A71),"") -> 56 | C72: SW3:1'-0'' Thick Concrete Wall(10'-6'' High) Reinforced w/ #5@12'' o.c. Horiz. & #5@12'' o.c Vert. Rebars | D72: 3.8072222 | E72: 0.05 | F72: =(1+E72)*D72 -> 3.9975833 | G72: CY | H72: 0 | I72: =H72*F72 -> 0 | J72: 0 | K72: =J72*F72 -> 0 | L72: 55 | M72: =L72*K72 -> 0 | N72: =M72+I72 -> 0
A73: =IF(F73<>"",1+MAX($A$2:A72),"") -> 57 | C73: 8'' Thick Concrete Knee Wall(2'-5'' High) Reinforced w/ #4@ 8''@ o.c. Rebars | D73: =(6.67*2.43*0.667)/27 -> 0.4004001 | E73: 0.05 | F73: =(1+E73)*D73 -> 0.42042011 | G73: CY | H73: 0 | I73: =H73*F73 -> 0 | J73: 0 | K73: =J73*F73 -> 0 | L73: 55 | M73: =L73*K73 -> 0 | N73: =M73+I73 -> 0
A74: =IF(F74<>"",1+MAX($A$2:A73),"") -> 58 | C74: 8'' Thick Concrete Knee Wall(2'-5'' High) Reinforced w/ #4@ 8''@ o.c. Rebars | D74: =(6.66*2.43*0.667)/27 -> 0.3997998 | E74: 0.05 | F74: =(1+E74)*D74 -> 0.41978979 | G74: CY | H74: 0 | I74: =H74*F74 -> 0 | J74: 0 | K74: =J74*F74 -> 0 | L74: 55 | M74: =L74*K74 -> 0 | N74: =M74+I74 -> 0
A75: =IF(F75<>"",1+MAX($A$2:A74),"") | B75: S102/S103/104/105/106/107/108 | C75: CONCRETE FOR BEAM
A76: =IF(F76<>"",1+MAX($A$2:A75),"") -> 59 | C76: 1B-02:1'-4''x1'-8'' Concrete Beam | D76: =(43.74*1.33*1.667)/27 -> 3.5917182 | E76: 0.05 | F76: =(1+E76)*D76 -> 3.7713041 | G76: CY | H76: 0 | I76: =H76*F76 -> 0 | J76: 0 | K76: =J76*F76 -> 0 | L76: 55 | M76: =L76*K76 -> 0 | N76: =M76+I76 -> 0
A77: =IF(F77<>"",1+MAX($A$2:A76),"") -> 60 | C77: 1B-01A:9''x3'-8'' Concrete Beam | D77: =(21.28*0.75*3.667)/27 -> 2.1676044 | E77: 0.05 | F77: =(1+E77)*D77 -> 2.2759847 | G77: CY | H77: 0 | I77: =H77*F77 -> 0 | J77: 0 | K77: =J77*F77 -> 0 | L77: 55 | M77: =L77*K77 -> 0 | N77: =M77+I77 -> 0
A78: =IF(F78<>"",1+MAX($A$2:A77),"") -> 61 | C78: 1B-01B:9''x3'-8'' Concrete Beam | D78: =(21.91*0.75*3.667)/27 -> 2.2317769 | E78: 0.05 | F78: =(1+E78)*D78 -> 2.3433658 | G78: CY | H78: 0 | I78: =H78*F78 -> 0 | J78: 0 | K78: =J78*F78 -> 0 | L78: 55 | M78: =L78*K78 -> 0 | N78: =M78+I78 -> 0
A79: =IF(F79<>"",1+MAX($A$2:A78),"") -> 62 | C79: TB-01:1'-4''x1'-6'' concrete Beam | D79: 102.1 | E79: 0.05 | F79: =(1+E79)*D79 -> 107.205 | G79: CY | H79: 0 | I79: =H79*F79 -> 0 | J79: 0 | K79: =J79*F79 -> 0 | L79: 55 | M79: =L79*K79 -> 0 | N79: =M79+I79 -> 0
A80: =IF(F80<>"",1+MAX($A$2:A79),"") -> 63 | C80: TB-02:1'-0''x2'-0'' Concrete Beam | D80: 85.9 | E80: 0.05 | F80: =(1+E80)*D80 -> 90.195 | G80: CY | H80: 0 | I80: =H80*F80 -> 0 | J80: 0 | K80: =J80*F80 -> 0 | L80: 55 | M80: =L80*K80 -> 0 | N80: =M80+I80 -> 0
A81: =IF(F81<>"",1+MAX($A$2:A80),"") -> 64 | C81: TB-03:8''x2'-6'' Concrete Beam | D81: 45.6 | E81: 0.05 | F81: =(1+E81)*D81 -> 47.88 | G81: CY | H81: 0 | I81: =H81*F81 -> 0 | J81: 0 | K81: =J81*F81 -> 0 | L81: 55 | M81: =L81*K81 -> 0 | N81: =M81+I81 -> 0
A82: =IF(F82<>"",1+MAX($A$2:A81),"") -> 65 | C82: TB-01A:1'-4''x18/30'' Concrete Beam | D82: =(10.55*1.33*0.5)/27 -> 0.25984259 | E82: 0.05 | F82: =(1+E82)*D82 -> 0.27283472 | G82: CY | H82: 0 | I82: =H82*F82 -> 0 | J82: 0 | K82: =J82*F82 -> 0 | L82: 55 | M82: =L82*K82 -> 0 | N82: =M82+I82 -> 0
A83: =IF(F83<>"",1+MAX($A$2:A82),"") -> 66 | C83: RB-01:1'-0''x1'-6'' Concrete Beam | D83: =(15.69*1*1.5)/27 -> 0.87166667 | E83: 0.05 | F83: =(1+E83)*D83 -> 0.91525 | G83: CY | H83: 0 | I83: =H83*F83 -> 0 | J83: 0 | K83: =J83*F83 -> 0 | L83: 55 | M83: =L83*K83 -> 0 | N83: =M83+I83 -> 0
A84: =IF(F84<>"",1+MAX($A$2:A83),"") -> 67 | C84: BHB-01:10''x1'-6'' Concrete Beam | D84: =(27.5*0.83*1.5)/27 -> 1.2680556 | E84: 0.05 | F84: =(1+E84)*D84 -> 1.3314583 | G84: CY | H84: 0 | I84: =H84*F84 -> 0 | J84: 0 | K84: =J84*F84 -> 0 | L84: 55 | M84: =L84*K84 -> 0 | N84: =M84+I84 -> 0
A85: =IF(F85<>"",1+MAX($A$2:A84),"") -> 68 | C85: BHB-02:1'-0''x1'-6'' Concrete Beam | D85: =(6.25*1*1.5)/27 -> 0.34722222 | E85: 0.05 | F85: =(1+E85)*D85 -> 0.36458333 | G85: CY | H85: 0 | I85: =H85*F85 -> 0 | J85: 0 | K85: =J85*F85 -> 0 | L85: 55 | M85: =L85*K85 -> 0 | N85: =M85+I85 -> 0
A86: =IF(F86<>"",1+MAX($A$2:A85),"") -> 69 | C86: BHB-03:1'-0''x1'-6'' Concrete Beam | D86: =(8.47*1*1.5)/27 -> 0.47055556 | E86: 0.05 | F86: =(1+E86)*D86 -> 0.49408333 | G86: CY | H86: 0 | I86: =H86*F86 -> 0 | J86: 0 | K86: =J86*F86 -> 0 | L86: 55 | M86: =L86*K86 -> 0 | N86: =M86+I86 -> 0
A87: =IF(F87<>"",1+MAX($A$2:A86),"") -> 70 | C87: BHB-04:1'-0''x1'-6'' Concrete Beam | D87: =(13.8*1*1.5)/27 -> 0.76666667 | E87: 0.05 | F87: =(1+E87)*D87 -> 0.805 | G87: CY | H87: 0 | I87: =H87*F87 -> 0 | J87: 0 | K87: =J87*F87 -> 0 | L87: 55 | M87: =L87*K87 -> 0 | N87: =M87+I87 -> 0
A88: =IF(F88<>"",1+MAX($A$2:A87),"") -> 71 | C88: BHB-05:1'-0''x1'-6'' Concrete Beam | D88: =(23.69*1*1.5)/27 -> 1.3161111 | E88: 0.05 | F88: =(1+E88)*D88 -> 1.3819167 | G88: CY | H88: 0 | I88: =H88*F88 -> 0 | J88: 0 | K88: =J88*F88 -> 0 | L88: 55 | M88: =L88*K88 -> 0 | N88: =M88+I88 -> 0
A89: =IF(F89<>"",1+MAX($A$2:A88),"") -> 72 | C89: BHB-06:1'-0''x1'-6'' Concrete Beam | D89: =(23.77*1*1.5)/27 -> 1.3205556 | E89: 0.05 | F89: =(1+E89)*D89 -> 1.3865833 | G89: CY | H89: 0 | I89: =H89*F89 -> 0 | J89: 0 | K89: =J89*F89 -> 0 | L89: 55 | M89: =L89*K89 -> 0 | N89: =M89+I89 -> 0
A90: =IF(F90<>"",1+MAX($A$2:A89),"") | B90: S301 | C90: CONCRETE FOR COLUMNS
A91: =IF(F91<>"",1+MAX($A$2:A90),"") -> 73 | C91: Tag: C1, 18"X16" Concrete Column (93.58 Lf) Reinforced With 8 #8 Vertical Rebar'S & #4 @ 8" O.C. Ties, #4 @ 16" O.C. Ties @ Bottom Of Column | D91: =1.5*1.33*93.58/27 -> 6.9145222 | E91: 0.05 | F91: =(1+E91)*D91 -> 7.2602483 | G91: CY | H91: 0 | I91: =H91*F91 -> 0 | J91: 0 | K91: =J91*F91 -> 0 | L91: 55 | M91: =L91*K91 -> 0 | N91: =M91+I91 -> 0
A92: =IF(F92<>"",1+MAX($A$2:A91),"") -> 74 | C92: Tag: C1, 18"X16" Concrete Column (55.33 Lf) Reinforced With 6 #7 Vertical Rebar'S & #4 @ 6" O.C. Ties, #4 @ 12" O.C. Ties @ Bottom Of Column | D92: =55.33*1.5*1.33/27 -> 4.0882722 | E92: 0.05 | F92: =(1+E92)*D92 -> 4.2926858 | G92: CY | H92: 0 | I92: =H92*F92 -> 0 | J92: 0 | K92: =J92*F92 -> 0 | L92: 55 | M92: =L92*K92 -> 0 | N92: =M92+I92 -> 0
A93: =IF(F93<>"",1+MAX($A$2:A92),"") -> 75 | C93: Tag: C2, 18"X16" Concrete Column (62.58 Lf) Reinforced With 4 #8 Vertical Rebar'S & #4 @ 8" O.C. Ties, #4 @ 16" O.C. Ties @ Bottom Of Column | D93: =62.58*1.5*1.33/27 -> 4.6239667 | E93: 0.05 | F93: =(1+E93)*D93 -> 4.855165 | G93: CY | H93: 0 | I93: =H93*F93 -> 0 | J93: 0 | K93: =J93*F93 -> 0 | L93: 55 | M93: =L93*K93 -> 0 | N93: =M93+I93 -> 0
A94: =IF(F94<>"",1+MAX($A$2:A93),"") -> 76 | C94: Tag: C2, 18"X16" Concrete Column (41.83 Lf) Reinforced With 6 #8 Vertical Rebar'S & #4 @ 8" O.C. Ties, #4 @ 16" O.C. Ties @ Bottom Of Column | D94: =41.83*1.5*1.33/27 -> 3.0907722 | E94: 0.05 | F94: =(1+E94)*D94 -> 3.2453108 | G94: CY | H94: 0 | I94: =H94*F94 -> 0 | J94: 0 | K94: =J94*F94 -> 0 | L94: 55 | M94: =L94*K94 -> 0 | N94: =M94+I94 -> 0
A95: =IF(F95<>"",1+MAX($A$2:A94),"") -> 77 | C95: Tag: C2, 18"X16" Concrete Column (44.5 Lf) Reinforced With 8 #8 Vertical Rebar'S & #4 @ 8" O.C. Ties, #4 @ 16" O.C. Ties @ Bottom Of Column | D95: =44.5*1.5*1.33/27 -> 3.2880556 | E95: 0.05 | F95: =(1+E95)*D95 -> 3.4524583 | G95: CY | H95: 0 | I95: =H95*F95 -> 0 | J95: 0 | K95: =J95*F95 -> 0 | L95: 55 | M95: =L95*K95 -> 0 | N95: =M95+I95 -> 0
A96: =IF(F96<>"",1+MAX($A$2:A95),"") -> 78 | C96: Tag: C3, 18"X16" Concrete Column (104.41 Lf) Reinforced With 4 #8 Vertical Rebar'S & #4 @ 8" O.C. Ties, #4 @ 16" O.C. Ties @ Bottom Of Column | D96: =104.41*1.5*1.33/27 -> 7.7147389 | E96: 0.05 | F96: =(1+E96)*D96 -> 8.1004758 | G96: CY | H96: 0 | I96: =H96*F96 -> 0 | J96: 0 | K96: =J96*F96 -> 0 | L96: 55 | M96: =L96*K96 -> 0 | N96: =M96+I96 -> 0
A97: =IF(F97<>"",1+MAX($A$2:A96),"") -> 79 | C97: Tag: C3, 18"X16" Concrete Column (67 Lf) Reinforced With 6 #8 Vertical Rebar'S & #4 @ 8" O.C. Ties, #4 @ 16" O.C. Ties @ Bottom Of Column | D97: =67*1.5*1.33/27 -> 4.9505556 | E97: 0.05 | F97: =(1+E97)*D97 -> 5.1980833 | G97: CY | H97: 0 | I97: =H97*F97 -> 0 | J97: 0 | K97: =J97*F97 -> 0 | L97: 55 | M97: =L97*K97 -> 0 | N97: =M97+I97 -> 0
A98: =IF(F98<>"",1+MAX($A$2:A97),"") -> 80 | C98: Tag: C4, 18"X16" Concrete Column ( Lf) Reinforced With 6 #8 Vertical Rebar'S & #4 @ 8" O.C. Ties, #4 @ 16" O.C. Ties @ Bottom Of Column | D98: =41.9*1.5*1.33/27 -> 3.0959444 | E98: 0.05 | F98: =(1+E98)*D98 -> 3.2507417 | G98: CY | H98: 0 | I98: =H98*F98 -> 0 | J98: 0 | K98: =J98*F98 -> 0 | L98: 55 | M98: =L98*K98 -> 0 | N98: =M98+I98 -> 0
A99: =IF(F99<>"",1+MAX($A$2:A98),"") -> 81 | C99: Tag: C4, 18"X16" Concrete Column ( Lf) Reinforced With 4 #8 Vertical Rebar'S & #4 @ 8" O.C. Ties, #4 @ 16" O.C. Ties @ Bottom Of Column | D99: =142*1.5*1.33/27 -> 10.492222 | E99: 0.05 | F99: =(1+E99)*D99 -> 11.016833 | G99: CY | H99: 0 | I99: =H99*F99 -> 0 | J99: 0 | K99: =J99*F99 -> 0 | L99: 55 | M99: =L99*K99 -> 0 | N99: =M99+I99 -> 0
A100: =IF(F100<>"",1+MAX($A$2:A99),"") -> 82 | C100: Tag: C5, 10"X48" Concrete Column ( Lf) Reinforced With 16 #8 Vertical Rebar'S & #4 @ 8" O.C. Ties, #4 @ 16" O.C. Ties @ Bottom Of Column | D100: =10.91*0.83*4/27 -> 1.3415259 | E100: 0.05 | F100: =(1+E100)*D100 -> 1.4086022 | G100: CY | H100: 0 | I100: =H100*F100 -> 0 | J100: 0 | K100: =J100*F100 -> 0 | L100: 55 | M100: =L100*K100 -> 0 | N100: =M100+I100 -> 0
A101: =IF(F101<>"",1+MAX($A$2:A100),"") -> 83 | C101: Tag: C5, 10"X40" Concrete Column ( Lf) Reinforced With 12 #8 Vertical Rebar'S & #4 @ 8" O.C. Ties, #4 @ 16" O.C. Ties @ Bottom Of Column | D101: =31*0.83*3.33/27 -> 3.1733667 | E101: 0.05 | F101: =(1+E101)*D101 -> 3.332035 | G101: CY | H101: 0 | I101: =H101*F101 -> 0 | J101: 0 | K101: =J101*F101 -> 0 | L101: 55 | M101: =L101*K101 -> 0 | N101: =M101+I101 -> 0
A102: =IF(F102<>"",1+MAX($A$2:A101),"") -> 84 | C102: Tag: C5, 10"X32" Concrete Column ( Lf) Reinforced With 10 #8 Vertical Rebar'S & #4 @ 8" O.C. Ties, #4 @ 16" O.C. Ties @ Bottom Of Column | D102: =51.7*0.83*2.67/27 -> 4.2434211 | E102: 0.05 | F102: =(1+E102)*D102 -> 4.4555922 | G102: CY | H102: 0 | I102: =H102*F102 -> 0 | J102: 0 | K102: =J102*F102 -> 0 | L102: 55 | M102: =L102*K102 -> 0 | N102: =M102+I102 -> 0
A103: =IF(F103<>"",1+MAX($A$2:A102),"") -> 85 | C103: Tag: C5, 10"X24" Concrete Column ( Lf) Reinforced With 8 #8 Vertical Rebar'S & #4 @ 8" O.C. Ties, #4 @ 16" O.C. Ties @ Bottom Of Column | D103: =43.3*0.83*2/27 -> 2.6621481 | E103: 0.05 | F103: =(1+E103)*D103 -> 2.7952556 | G103: CY | H103: 0 | I103: =H103*F103 -> 0 | J103: 0 | K103: =J103*F103 -> 0 | L103: 55 | M103: =L103*K103 -> 0 | N103: =M103+I103 -> 0
A104: =IF(F104<>"",1+MAX($A$2:A103),"") -> 86 | C104: Tag: C5, 10"X24" Concrete Column ( Lf) Reinforced With 4 #7 Vertical Rebar'S & #4 @ 7" O.C. Ties, #4 @ 14" O.C. Ties @ Bottom Of Column | D104: =57.5*0.83*2/27 -> 3.5351852 | E104: 0.05 | F104: =(1+E104)*D104 -> 3.7119444 | G104: CY | H104: 0 | I104: =H104*F104 -> 0 | J104: 0 | K104: =J104*F104 -> 0 | L104: 55 | M104: =L104*K104 -> 0 | N104: =M104+I104 -> 0
A105: =IF(F105<>"",1+MAX($A$2:A104),"") -> 87 | C105: Tag: C6, 12"X30" Concrete Column ( Lf) Reinforced With 12 #8 Vertical Rebar'S & #4 @ 8" O.C. Ties, #4 @ 16" O.C. Ties @ Bottom Of Column | D105: =10.91*1*2.5/27 -> 1.0101852 | E105: 0.05 | F105: =(1+E105)*D105 -> 1.0606944 | G105: CY | H105: 0 | I105: =H105*F105 -> 0 | J105: 0 | K105: =J105*F105 -> 0 | L105: 55 | M105: =L105*K105 -> 0 | N105: =M105+I105 -> 0
A106: =IF(F106<>"",1+MAX($A$2:A105),"") -> 88 | C106: Tag: C6, 12"X33" Concrete Column ( Lf) Reinforced With 10 #8 Vertical Rebar'S & #4 @ 8" O.C. Ties, #4 @ 16" O.C. Ties @ Bottom Of Column | D106: =10.33*1*2.75/27 -> 1.0521296 | E106: 0.05 | F106: =(1+E106)*D106 -> 1.1047361 | G106: CY | H106: 0 | I106: =H106*F106 -> 0 | J106: 0 | K106: =J106*F106 -> 0 | L106: 55 | M106: =L106*K106 -> 0 | N106: =M106+I106 -> 0
A107: =IF(F107<>"",1+MAX($A$2:A106),"") -> 89 | C107: Tag: C6, 12"X24" Concrete Column ( Lf) Reinforced With 8 #8 Vertical Rebar'S & #4 @ 8" O.C. Ties, #4 @ 16" O.C. Ties @ Bottom Of Column | D107: =20.7*1*2/27 -> 1.5333333 | E107: 0.05 | F107: =(1+E107)*D107 -> 1.61 | G107: CY | H107: 0 | I107: =H107*F107 -> 0 | J107: 0 | K107: =J107*F107 -> 0 | L107: 55 | M107: =L107*K107 -> 0 | N107: =M107+I107 -> 0
A108: =IF(F108<>"",1+MAX($A$2:A107),"") -> 90 | C108: Tag: C6, 12"X24" Concrete Column ( Lf) Reinforced With 6 #8 Vertical Rebar'S & #4 @ 8" O.C. Ties, #4 @ 16" O.C. Ties @ Bottom Of Column | D108: =51.7*1*2/27 -> 3.8296296 | E108: 0.05 | F108: =(1+E108)*D108 -> 4.0211111 | G108: CY | H108: 0 | I108: =H108*F108 -> 0 | J108: 0 | K108: =J108*F108 -> 0 | L108: 55 | M108: =L108*K108 -> 0 | N108: =M108+I108 -> 0
A109: =IF(F109<>"",1+MAX($A$2:A108),"") -> 91 | C109: Tag: C6, 12"X24" Concrete Column ( Lf) Reinforced With 4 #8 Vertical Rebar'S & #4 @ 8" O.C. Ties, #4 @ 16" O.C. Ties @ Bottom Of Column | D109: =100.8*1*2/27 -> 7.4666667 | E109: 0.05 | F109: =(1+E109)*D109 -> 7.84 | G109: CY | H109: 0 | I109: =H109*F109 -> 0 | J109: 0 | K109: =J109*F109 -> 0 | L109: 55 | M109: =L109*K109 -> 0 | N109: =M109+I109 -> 0
A110: =IF(F110<>"",1+MAX($A$2:A109),"") -> 92 | C110: Tag: C7, 12"X48" Concrete Column ( Lf) Reinforced With 16 #8 Vertical Rebar'S & #4 @ 8" O.C. Ties, #4 @ 16" O.C. Ties @ Bottom Of Column | D110: =10.91*1*4/27 -> 1.6162963 | E110: 0.05 | F110: =(1+E110)*D110 -> 1.6971111 | G110: CY | H110: 0 | I110: =H110*F110 -> 0 | J110: 0 | K110: =J110*F110 -> 0 | L110: 55 | M110: =L110*K110 -> 0 | N110: =M110+I110 -> 0
A111: =IF(F111<>"",1+MAX($A$2:A110),"") -> 93 | C111: Tag: C7, 10"X40" Concrete Column ( Lf) Reinforced With 12 #8 Vertical Rebar'S & #4 @ 8" O.C. Ties, #4 @ 16" O.C. Ties @ Bottom Of Column | D111: =31*0.83*3.33/27 -> 3.1733667 | E111: 0.05 | F111: =(1+E111)*D111 -> 3.332035 | G111: CY | H111: 0 | I111: =H111*F111 -> 0 | J111: 0 | K111: =J111*F111 -> 0 | L111: 55 | M111: =L111*K111 -> 0 | N111: =M111+I111 -> 0
A112: =IF(F112<>"",1+MAX($A$2:A111),"") -> 94 | C112: Tag: C7, 10"X32" Concrete Column ( Lf) Reinforced With 10 #8 Vertical Rebar'S & #4 @ 8" O.C. Ties, #4 @ 16" O.C. Ties @ Bottom Of Column | D112: =51.7*0.83*2.67/27 -> 4.2434211 | E112: 0.05 | F112: =(1+E112)*D112 -> 4.4555922 | G112: CY | H112: 0 | I112: =H112*F112 -> 0 | J112: 0 | K112: =J112*F112 -> 0 | L112: 55 | M112: =L112*K112 -> 0 | N112: =M112+I112 -> 0
A113: =IF(F113<>"",1+MAX($A$2:A112),"") -> 95 | C113: Tag: C7, 10"X24" Concrete Column ( Lf) Reinforced With 8 #8 Vertical Rebar'S & #4 @ 8" O.C. Ties, #4 @ 16" O.C. Ties @ Bottom Of Column | D113: =43.32*0.83*2/27 -> 2.6633778 | E113: 0.05 | F113: =(1+E113)*D113 -> 2.7965467 | G113: CY | H113: 0 | I113: =H113*F113 -> 0 | J113: 0 | K113: =J113*F113 -> 0 | L113: 55 | M113: =L113*K113 -> 0 | N113: =M113+I113 -> 0
A114: =IF(F114<>"",1+MAX($A$2:A113),"") -> 96 | C114: Tag: C7, 10"X24" Concrete Column ( Lf) Reinforced With 4 #7 Vertical Rebar'S & #4 @ 7" O.C. Ties, #4 @ 14" O.C. Ties @ Bottom Of Column | D114: =57.5*0.83*2/27 -> 3.5351852 | E114: 0.05 | F114: =(1+E114)*D114 -> 3.7119444 | G114: CY | H114: 0 | I114: =H114*F114 -> 0 | J114: 0 | K114: =J114*F114 -> 0 | L114: 55 | M114: =L114*K114 -> 0 | N114: =M114+I114 -> 0
A115: =IF(F115<>"",1+MAX($A$2:A114),"") -> 97 | C115: Tag: C8, 18"X16" Concrete Column ( Lf) Reinforced With 6 #8 Vertical Rebar'S & #4 @ 8" O.C. Ties, #4 @ 16" O.C. Ties @ Bottom Of Column | D115: =93.55*1.5*1.33/27 -> 6.9123056 | E115: 0.05 | F115: =(1+E115)*D115 -> 7.2579208 | G115: CY | H115: 0 | I115: =H115*F115 -> 0 | J115: 0 | K115: =J115*F115 -> 0 | L115: 55 | M115: =L115*K115 -> 0 | N115: =M115+I115 -> 0
...
