Workbook

Sheet SUMMARY
A1: MATERIAL TAKEOFF AND COST ESTIMATE STATEMENT
A2: PROJECT NAME: | C2: =ESTIMATE!C2 -> 10 WEST 17TH STREET, NEW YORK, NY 10011
A4: LOCATION: | C4: =ESTIMATE!C3 -> 10 WEST 17TH STREET, NEW YORK, NY 10011 | J4: TOTAL AREA(SF) | L4: 12
M5: Area May Vary
A7: Sr # | B7: REFERENCE | C7: DESCRIPTION | K7: TOTAL COST | L7: $COST/SF
A9: DIVISION WISE SUMMARY | M9: =SUM(K10:K35) -> 0.44
A11: =IF(F11<>"",1+MAX($A$2:A10),"") | C11: CSI DIVISIONS
A12: =IF(F12<>"",1+MAX($A$2:A11),"") | C12: 01-General Conditions | K12: =ESTIMATE!P7 -> 0 | L12: =K12/L4 -> 0
A13: =IF(F13<>"",1+MAX($A$2:A12),"") | C13: 02-Demolition Of Existing Items | K13: =0 -> 0 | L13: =K13/L4 -> 0
A14: =IF(F14<>"",1+MAX($A$2:A13),"") | C14: 03-Concrete | K14: =ESTIMATE!P24 -> 0 | L14: =K14/L4 -> 0
A15: =IF(F15<>"",1+MAX($A$2:A14),"") | C15: 04-Masonry | K15: =SUMMARY!P155 -> 0 | L15: =K15/L4 -> 0
A16: =IF(F16<>"",1+MAX($A$2:A15),"") | C16: 05-Metals | K16: =SUMMARY!P168 -> 0 | L16: =K16/L4 -> 0
A17: =IF(F17<>"",1+MAX($A$2:A16),"") | C17: 06-Wood, Plastics & Composites | K17: =ESTIMATE!P263 -> 0 | L17: =K17/L4 -> 0
A18: =IF(F18<>"",1+MAX($A$2:A17),"") | C18: 07-Thermal & Moisture Protection | K18: =ESTIMATE!P288 -> 0.22 | L18: =K18/L4 -> 0.018333333
A19: =IF(F19<>"",1+MAX($A$2:A18),"") | C19: 08-Openings | K19: =ESTIMATE!P311 -> 0 | L19: =K19/L4 -> 0
A20: =IF(F20<>"",1+MAX($A$2:A19),"") | C20: 09-Finishes | K20: =ESTIMATE!P381 -> 0.22 | L20: =K20/L4 -> 0.018333333
A21: =IF(F21<>"",1+MAX($A$2:A20),"") | C21: 10-Specialites | K21: =ESTIMATE!P438 -> 0 | L21: =K21/L4 -> 0
A22: =IF(F22<>"",1+MAX($A$2:A21),"") | C22: 11-Equipment | K22: =ESTIMATE!P451 -> 0 | L22: =K22/L4 -> 0
A23: =IF(F23<>"",1+MAX($A$2:A22),"") | C23: 12-Furnishings | K23: =ESTIMATE!P461 -> 0 | L23: =K23/L4 -> 0
A24: =IF(F24<>"",1+MAX($A$2:A23),"") | C24: 13-Special Construction | K24: 0 | L24: =K24/L4 -> 0
A25: =IF(F25<>"",1+MAX($A$2:A24),"") | C25: 14-Conveying Equipment | K25: =ESTIMATE!P484 -> 0 | L25: =K25/L4 -> 0
A26: =IF(F26<>"",1+MAX($A$2:A25),"") | C26: 21-Fire Protection | K26: 0 | L26: =K26/L4 -> 0
A27: =IF(F27<>"",1+MAX($A$2:A26),"") | C27: 22-Plumbing | K27: =ESTIMATE!P517 -> 0 | L27: =K27/L4 -> 0
A28: =IF(F28<>"",1+MAX($A$2:A27),"") | C28: 23-Heating, Ventilations & Air Conditioning (HVAC) | K28: =ESTIMATE!P636 -> 0 | L28: =K28/L4 -> 0
A29: =IF(F29<>"",1+MAX($A$2:A28),"") | C29: 26-Electrical | K29: =ESTIMATE!P847 -> 0 | L29: =K29/L4 -> 0
A30: =IF(F30<>"",1+MAX($A$2:A29),"") | C30: 27-Communications | K30: 0 | L30: =K30/L4 -> 0
A31: =IF(E31<>"",1+MAX($A$2:A30),"") | C31: 28-Electronic Safety & security | K31: 0 | L31: =K31/L4 -> 0
A32: =IF(E32<>"",1+MAX($A$2:A31),"") | C32: 31-Earthwork | K32: =ESTIMATE!P988 -> 0 | L32: =K32/L4 -> 0
A33: =IF(E33<>"",1+MAX($A$2:A32),"") | C33: 32-Exterior Improvements | K33: =ESTIMATE!P994 -> 0 | L33: =K33/L4 -> 0
A34: =IF(E34<>"",1+MAX($A$2:A33),"") | C34: 33-Utilities | K34: 0 | L34: =K34/L4 -> 0
A37: SUB TOTAL | M37: =SUM(M9:M35) -> 0.44
A38: OVERHEAD | D38: 0.07 | M38: =M37*D38 -> 0.0308
A39: PROFIT | D39: 0.15 | M39: =M37*D39 -> 0.066
A40: INSURANCE | D40: 0 | M40: =M37*D40 -> 0
A41: CONTINGENCY | D41: 0.01 | M41: =M37*D41 -> 0.0044
A42: NET TOTAL | M42: =SUM(M37:M41) -> 0.5412
A43: =IF(E43<>"",1+MAX(#REF!),"")
A44: =IF(E44<>"",1+MAX($A$43:A43),"")
A45: =IF(E45<>"",1+MAX($A$43:A44),"")
A46: =IF(E46<>"",1+MAX($A$43:A45),"")
...

Sheet ESTIMATE
A1: MATERIAL TAKEOFF AND COST ESTIMATE STATEMENT
A2: PROJECT NAME: | C2: 10 WEST 17TH STREET, NEW YORK, NY 10011
A3: LOCATION: | C3: 10 WEST 17TH STREET, NEW YORK, NY 10011
A5: Sr # | B5: REFERENCE | C5: DESCRIPTION | D5: QUANTITY | E5: WASTE | F5: TOTAL QTY | G5: UNIT | H5: COST/UNIT | I5: MATERIAL TOTAL | J5: UNIT HOURS | K5: TOTAL MANHOURS | L5: UNIT LABOR | M5: TOTAL LABOR | N5: TOTAL COST | O5: REMARKS | P5: TRADE COST
A7: 01. GENERAL CONDITIONS | P7: =SUM(N8:N22) -> 0
A8: =IF(F8<>"",1+MAX($A$2:A7),"")
A9: =IF(F9<>"",1+MAX($A$2:A8),"") | C9: INDIRECT PROJECT COSTS
A10: =IF(F10<>"",1+MAX($A$2:A9),"") -> 1 | C10: General Liability Insurance | D10: 0 | E10: 0 | F10: =(1+E10)*D10 -> 0 | G10: Mo | H10: 0 | I10: =H10*F10 -> 0 | J10: 0 | K10: =J10*F10 -> 0 | L10: 0 | M10: =L10*K10 -> 0 | N10: =M10+I10 -> 0
A11: =IF(F11<>"",1+MAX($A$2:A10),"") -> 2 | C11: General Conditions (Backoffice Overhead) | D11: 0 | E11: 0 | F11: =(1+E11)*D11 -> 0 | G11: Mo | H11: 0 | I11: =H11*F11 -> 0 | J11: 0 | K11: =J11*F11 -> 0 | L11: 0 | M11: =L11*K11 -> 0 | N11: =M11+I11 -> 0
A12: =IF(F12<>"",1+MAX($A$2:A11),"") | C12: DIRECT PROJECT COSTS
A13: =IF(F13<>"",1+MAX($A$2:A12),"") -> 3 | C13: Bonding Fee (If required) | D13: 1.15 | E13: 0 | F13: =(1+E13)*D13 -> 1.15 | G13: % | I13: =H13*F13 -> 0 | J13: 0 | K13: =J13*F13 -> 0 | L13: 0 | M13: =L13*K13 -> 0 | N13: =M13+I13 -> 0
A14: =IF(F14<>"",1+MAX($A$2:A13),"") -> 4 | C14: Access Control (Pipe Scaffolding or Boom/Scissor Lifts) | D14: 0 | E14: 0 | F14: =(1+E14)*D14 -> 0 | G14: Mo | H14: 0 | I14: =H14*F14 -> 0 | J14: 0 | K14: =J14*F14 -> 0 | L14: 0 | M14: =L14*K14 -> 0 | N14: =M14+I14 -> 0
A15: =IF(F15<>"",1+MAX($A$2:A14),"") -> 5 | C15: Equipment Rental | D15: 0 | E15: 0 | F15: =(1+E15)*D15 -> 0 | G15: Mo | H15: 0 | I15: =H15*F15 -> 0 | J15: 0 | K15: =J15*F15 -> 0 | L15: 0 | M15: =L15*K15 -> 0 | N15: =M15+I15 -> 0
A16: =IF(F16<>"",1+MAX($A$2:A15),"") -> 6 | C16: Travel, Tools, Gas | D16: 0 | E16: 0 | F16: =(1+E16)*D16 -> 0 | G16: Mo | H16: 0 | I16: =H16*F16 -> 0 | J16: 0 | K16: =J16*F16 -> 0 | L16: 0 | M16: =L16*K16 -> 0 | N16: =M16+I16 -> 0
A17: =IF(F17<>"",1+MAX($A$2:A16),"") -> 7 | C17: Field Office | D17: 0 | E17: 0 | F17: =(1+E17)*D17 -> 0 | G17: Mo | H17: 0 | I17: =H17*F17 -> 0 | J17: 0 | K17: =J17*F17 -> 0 | L17: 0 | M17: =L17*K17 -> 0 | N17: =M17+I17 -> 0
A18: =IF(F18<>"",1+MAX($A$2:A17),"") -> 8 | C18: Temp. Facilities | D18: 0 | E18: 0 | F18: =(1+E18)*D18 -> 0 | G18: Mo | H18: 0 | I18: =H18*F18 -> 0 | J18: 0 | K18: =J18*F18 -> 0 | L18: 0 | M18: =L18*K18 -> 0 | N18: =M18+I18 -> 0
A19: =IF(F19<>"",1+MAX($A$2:A18),"") -> 9 | C19: Temp. Signage and Protection | D19: 0 | E19: 0 | F19: =(1+E19)*D19 -> 0 | G19: Mo | H19: 0 | I19: =H19*F19 -> 0 | J19: 0 | K19: =J19*F19 -> 0 | L19: 0 | M19: =L19*K19 -> 0 | N19: =M19+I19 -> 0
A20: =IF(F20<>"",1+MAX($A$2:A19),"") -> 10 | C20: Temp. Fencing | D20: 0 | E20: 0 | F20: =(1+E20)*D20 -> 0 | G20: Mo | H20: 0 | I20: =H20*F20 -> 0 | J20: 0 | K20: =J20*F20 -> 0 | L20: 0 | M20: =L20*K20 -> 0 | N20: =M20+I20 -> 0
A21: =IF(F21<>"",1+MAX($A$2:A20),"") -> 11 | C21: Field Superintendent/Foreman (Full Time) | D21: 0 | E21: 0 | F21: =(1+E21)*D21 -> 0 | G21: Mo | H21: 0 | I21: =H21*F21 -> 0 | J21: 0 | K21: =J21*F21 -> 0 | L21: 0 | M21: =L21*K21 -> 0 | N21: =M21+I21 -> 0
A22: =IF(F22<>"",1+MAX($A$2:A21),"") -> 12 | C22: Project Manager (Part Time) | D22: 0 | E22: 0 | F22: =(1+E22)*D22 -> 0 | G22: Mo | H22: 0 | I22: =H22*F22 -> 0 | J22: 0 | K22: =J22*F22 -> 0 | L22: 0 | M22: =L22*K22 -> 0 | N22: =M22+I22 -> 0
A23: =IF(F23<>"",1+MAX($A$2:A22),"")
A24: 03. CONCRETE | P24: =SUM(N25:N167) -> 0
A25: =IF(F25<>"",1+MAX($A$2:A24),"")
A26: =IF(F26<>"",1+MAX($A$2:A25),"") | B26: F0101, F0001 | C26: CONCRETE FOR FOUNDATION
A27: =IF(F27<>"",1+MAX($A$2:A26),"") | C27: CAISSON CAP
A28: =IF(F28<>"",1+MAX($A$2:A27),"") -> 13 | C28: Tag: Cc-1A, 3'-0" X 3'-0" X 3'-6" Caisson Cap (6 Ea) Reinforced With (3) #8 Each Way At Bottom | D28: =6*3*3*3.5/27 -> 7 | E28: 0.05 | F28: =(1+E28)*D28 -> 7.35 | G28: CY | H28: 0 | I28: =H28*F28 -> 0 | J28: 0 | K28: =J28*F28 -> 0 | L28: 55 | M28: =L28*K28 -> 0 | N28: =M28+I28 -> 0
A29: =IF(F29<>"",1+MAX($A$2:A28),"") -> 14 | C29: Tag: Cc-1B, 3'-0" X 3'-6" X 11'-8" Caisson Cap (4 Ea) Reinforced With (16) #10 Vertical Rebars Each Way | D29: =4*3*3.5*11.67/27 -> 18.153333 | E29: 0.05 | F29: =(1+E29)*D29 -> 19.061 | G29: CY | H29: 0 | I29: =H29*F29 -> 0 | J29: 0 | K29: =J29*F29 -> 0 | L29: 55 | M29: =L29*K29 -> 0 | N29: =M29+I29 -> 0
A30: =IF(F30<>"",1+MAX($A$2:A29),"") -> 15 | C30: Tag: Cc-1B, 3'-0" X 3'-6" X 10'-6" Caisson Cap (2 Ea) Reinforced With (16) #10 Vertical Rebars Each Way | D30: =2*3*3.5*10.5/27 -> 8.1666667 | E30: 0.05 | F30: =(1+E30)*D30 -> 8.575 | G30: CY | H30: 0 | I30: =H30*F30 -> 0 | J30: 0 | K30: =J30*F30 -> 0 | L30: 55 | M30: =L30*K30 -> 0 | N30: =M30+I30 -> 0
A31: =IF(F31<>"",1+MAX($A$2:A30),"") -> 16 | C31: Tag: Cc-1B, 3'-0" X 3'-6" X 10'-8" Caisson Cap (1 Ea) Reinforced With (16) #10 Vertical Rebars Each Way | D31: =1*3*3.5*10.67/27 -> 4.1494444 | E31: 0.05 | F31: =(1+E31)*D31 -> 4.3569167 | G31: CY | H31: 0 | I31: =H31*F31 -> 0 | J31: 0 | K31: =J31*F31 -> 0 | L31: 55 | M31: =L31*K31 -> 0 | N31: =M31+I31 -> 0
A32: =IF(F32<>"",1+MAX($A$2:A31),"") -> 17 | C32: Tag: Cc-2, 3'-0" X 11'-0" X 4'-0" Caisson Cap (1 Ea) | D32: =1*3*11*4/27 -> 4.8888889 | E32: 0.05 | F32: =(1+E32)*D32 -> 5.1333333 | G32: CY | H32: 0 | I32: =H32*F32 -> 0 | J32: 0 | K32: =J32*F32 -> 0 | L32: 55 | M32: =L32*K32 -> 0 | N32: =M32+I32 -> 0
A33: =IF(F33<>"",1+MAX($A$2:A32),"") -> 18 | C33: 12'-7" X 3'-0" X 4'-8" Caisson Cap (1 Ea) Reinforced With 10#10 Bottom And 4#8 Horizontal #6@12" O.C. Vertical E.F And #7@9" O.C. Horiz. E.F | D33: =1*12.58*3*4.67/27 -> 6.5276222 | E33: 0.05 | F33: =(1+E33)*D33 -> 6.8540033 | G33: CY | H33: 0 | I33: =H33*F33 -> 0 | J33: 0 | K33: =J33*F33 -> 0 | L33: 55 | M33: =L33*K33 -> 0 | N33: =M33+I33 -> 0
A34: =IF(F34<>"",1+MAX($A$2:A33),"") -> 19 | C34: 12'-7" X 3'-0" X 5'-8" Caisson Cap (1 Ea) Reinforced With 10#10 Bottom And 4#8 Horizontal #6@12" O.C. Vertical E.F And #7@9" O.C. Horiz. E.F | D34: =1*12.58*3*5.67/27 -> 7.9254 | E34: 0.05 | F34: =(1+E34)*D34 -> 8.32167 | G34: CY | H34: 0 | I34: =H34*F34 -> 0 | J34: 0 | K34: =J34*F34 -> 0 | L34: 55 | M34: =L34*K34 -> 0 | N34: =M34+I34 -> 0
A35: =IF(F35<>"",1+MAX($A$2:A34),"") -> 20 | C35: 23'-0" X 3'-0" X 5'-8" Caisson Cap (1 Ea) Reinforced With 7#10 Bottom And 4#8 Horizontal #6@12" O.C. Vertical E.F And #7@9" O.C. Horiz. E.F | D35: =1*23*3*5.67/27 -> 14.49 | E35: 0.05 | F35: =(1+E35)*D35 -> 15.2145 | G35: CY | H35: 0 | I35: =H35*F35 -> 0 | J35: 0 | K35: =J35*F35 -> 0 | L35: 55 | M35: =L35*K35 -> 0 | N35: =M35+I35 -> 0
A36: =IF(F36<>"",1+MAX($A$2:A35),"") -> 21 | C36: 23'-0" X 3'-0" X 5'-8" Caisson Cap (1 Ea) Reinforced With 2 Layers 7#10 Bottom And 4#8 Horizontal #6@12" O.C. Vertical E.F And #7@9" O.C. Horiz. E.F | D36: =1*23*3*5.67/27 -> 14.49 | E36: 0.05 | F36: =(1+E36)*D36 -> 15.2145 | G36: CY | H36: 0 | I36: =H36*F36 -> 0 | J36: 0 | K36: =J36*F36 -> 0 | L36: 55 | M36: =L36*K36 -> 0 | N36: =M36+I36 -> 0
A37: =IF(F37<>"",1+MAX($A$2:A36),"") | B37: S102/S103/104/105/106/107/108 | C37: CONCRETE FOR WALLS
A38: =IF(F38<>"",1+MAX($A$2:A37),"") -> 22 | C38: 12" Thick Concrete Wall 11'-0" High (69.88 Lf) Reinforced With #5 Vertical Rebars @12" O.C. At Outer Face, #8 Vertical Rebars @8" O.C. At Inner Face, #5 @ 12" O.C Horz. | D38: =69.88*1*11/27 -> 28.46963 | E38: 0.05 | F38: =(1+E38)*D38 -> 29.893111 | G38: CY | H38: 0 | I38: =H38*F38 -> 0 | J38: 0 | K38: =J38*F38 -> 0 | L38: 55 | M38: =L38*K38 -> 0 | N38: =M38+I38 -> 0
A39: =IF(F39<>"",1+MAX($A$2:A38),"") -> 23 | C39: 12" Thick Concrete Wall 10'-0" High (70.16 Lf) Reinforced With #5 Vertical Rebars @12" O.C. At Outer Face, #8 Vertical Rebars @8" O.C. At Inner Face, #5 @ 12" O.C Horz. | D39: =70.16*1*10/27 -> 25.985185 | E39: 0.05 | F39: =(1+E39)*D39 -> 27.284444 | G39: CY | H39: 0 | I39: =H39*F39 -> 0 | J39: 0 | K39: =J39*F39 -> 0 | L39: 55 | M39: =L39*K39 -> 0 | N39: =M39+I39 -> 0
A40: =IF(F40<>"",1+MAX($A$2:A39),"") -> 24 | C40: 12" Thick Concrete Wall 9'-2" High (15.13 Lf) Reinforced With #5 Vertical Rebars @12" O.C. At Outer Face, #8 Vertical Rebars @8" O.C. At Inner Face, #5 @ 12" O.C Horz. | D40: =15.13*1*9.167/27 -> 5.1369152 | E40: 0.05 | F40: =(1+E40)*D40 -> 5.3937609 | G40: CY | H40: 0 | I40: =H40*F40 -> 0 | J40: 0 | K40: =J40*F40 -> 0 | L40: 55 | M40: =L40*K40 -> 0 | N40: =M40+I40 -> 0
A41: =IF(F41<>"",1+MAX($A$2:A40),"") -> 25 | C41: 12" Thick Concrete Wall 12'-2" High (82.83 Lf) Reinforced With #5 Vertical Rebars @12" O.C. At Outer Face, #8 Vertical Rebars @8" O.C. At Inner Face, #5 @ 12" O.C Horz. | D41: =82.83*12.167*1/27 -> 37.325652 | E41: 0.05 | F41: =(1+E41)*D41 -> 39.191935 | G41: CY | H41: 0 | I41: =H41*F41 -> 0 | J41: 0 | K41: =J41*F41 -> 0 | L41: 55 | M41: =L41*K41 -> 0 | N41: =M41+I41 -> 0
A42: =IF(F42<>"",1+MAX($A$2:A41),"") -> 26 | C42: 8" Thick Concrete Wall 9'-0" High (10.25 Lf) Reinforced With #5 Rebars @ 12" O.C. Vertical And Horizointal | D42: =10.25*9*0.67/27 -> 2.2891667 | E42: 0.05 | F42: =(1+E42)*D42 -> 2.403625 | G42: CY | H42: 0 | I42: =H42*F42 -> 0 | J42: 0 | K42: =J42*F42 -> 0 | L42: 55 | M42: =L42*K42 -> 0 | N42: =M42+I42 -> 0
...
